Package: immApex Version: 1.0.5 Command: /home/biocbuild/bbs-3.20-bioc/R/bin/R CMD build --keep-empty-dirs --no-resave-data --md5 immApex StartedAt: 2025-03-31 17:41:31 -0400 (Mon, 31 Mar 2025) EndedAt: 2025-03-31 17:42:19 -0400 (Mon, 31 Mar 2025) EllapsedTime: 48.1 seconds RetCode: 0 Status: OK PackageFile: immApex_1.0.5.tar.gz PackageFileSize: 2.75 MiB