Package: immunogenViewer Version: 1.0.0 Command: /home/biocbuild/R/R/bin/R CMD build --keep-empty-dirs --no-resave-data immunogenViewer StartedAt: 2025-04-01 00:17:01 -0000 (Tue, 01 Apr 2025) EndedAt: 2025-04-01 00:17:54 -0000 (Tue, 01 Apr 2025) EllapsedTime: 53.1 seconds RetCode: 0 Status: OK PackageFile: immunogenViewer_1.0.0.tar.gz PackageFileSize: 619.4 KiB