Package: infinityFlow Version: 1.16.0 Command: /home/biocbuild/R/R/bin/R CMD INSTALL infinityFlow StartedAt: 2025-03-31 20:23:33 -0000 (Mon, 31 Mar 2025) EndedAt: 2025-03-31 20:23:37 -0000 (Mon, 31 Mar 2025) EllapsedTime: 3.6 seconds RetCode: 1 Status: ERROR