Package: interactiveDisplay Version: 1.44.0 Command: /home/biocbuild/R/R/bin/R CMD build --keep-empty-dirs --no-resave-data interactiveDisplay StartedAt: 2025-04-01 00:19:16 -0000 (Tue, 01 Apr 2025) EndedAt: 2025-04-01 00:20:18 -0000 (Tue, 01 Apr 2025) EllapsedTime: 62.0 seconds RetCode: 0 Status: OK PackageFile: interactiveDisplay_1.44.0.tar.gz PackageFileSize: 4.564 MiB