Package: iterativeBMA Version: 1.64.0 Command: /Library/Frameworks/R.framework/Resources/bin/R CMD build --keep-empty-dirs --no-resave-data iterativeBMA StartedAt: 2025-03-31 19:37:09 -0400 (Mon, 31 Mar 2025) EndedAt: 2025-03-31 19:37:48 -0400 (Mon, 31 Mar 2025) EllapsedTime: 39.1 seconds RetCode: 0 Status: OK PackageFile: iterativeBMA_1.64.0.tar.gz PackageFileSize: 158.9 KiB