Package: katdetectr Version: 1.8.0 Command: /Library/Frameworks/R.framework/Resources/bin/R CMD build --keep-empty-dirs --no-resave-data katdetectr StartedAt: 2025-04-01 01:55:39 -0400 (Tue, 01 Apr 2025) EndedAt: 2025-04-01 01:57:09 -0400 (Tue, 01 Apr 2025) EllapsedTime: 90.0 seconds RetCode: 0 Status: OK PackageFile: katdetectr_1.8.0.tar.gz PackageFileSize: 1.461 MiB