Package: limma Version: 3.62.2 Command: /home/biocbuild/bbs-3.20-bioc/R/bin/R CMD build --keep-empty-dirs --no-resave-data --md5 limma StartedAt: 2025-03-31 17:48:38 -0400 (Mon, 31 Mar 2025) EndedAt: 2025-03-31 17:49:01 -0400 (Mon, 31 Mar 2025) EllapsedTime: 23.1 seconds RetCode: 0 Status: OK PackageFile: limma_3.62.2.tar.gz PackageFileSize: 2.693 MiB