Package: lisaClust Version: 1.14.4 Command: /Library/Frameworks/R.framework/Resources/bin/R CMD INSTALL lisaClust StartedAt: 2025-03-31 18:13:14 -0400 (Mon, 31 Mar 2025) EndedAt: 2025-03-31 18:13:46 -0400 (Mon, 31 Mar 2025) EllapsedTime: 31.4 seconds RetCode: 0 Status: OK