Package: lmdme Version: 1.48.0 Command: /Library/Frameworks/R.framework/Resources/bin/R CMD INSTALL lmdme StartedAt: 2025-03-31 15:09:33 -0400 (Mon, 31 Mar 2025) EndedAt: 2025-03-31 15:09:55 -0400 (Mon, 31 Mar 2025) EllapsedTime: 22.0 seconds RetCode: 0 Status: OK