Package: lmdme Version: 1.48.0 Command: /home/biocbuild/R/R/bin/R CMD INSTALL lmdme StartedAt: 2025-03-31 20:16:22 -0000 (Mon, 31 Mar 2025) EndedAt: 2025-03-31 20:16:43 -0000 (Mon, 31 Mar 2025) EllapsedTime: 20.0 seconds RetCode: 0 Status: OK