Package: mCSEA Version: 1.26.2 Command: /Library/Frameworks/R.framework/Resources/bin/R CMD INSTALL mCSEA StartedAt: 2025-03-31 17:07:16 -0400 (Mon, 31 Mar 2025) EndedAt: 2025-03-31 17:08:01 -0400 (Mon, 31 Mar 2025) EllapsedTime: 45.7 seconds RetCode: 0 Status: OK