Package: marray Version: 1.84.0 Command: /Library/Frameworks/R.framework/Resources/bin/R CMD INSTALL marray StartedAt: 2025-03-31 15:08:28 -0400 (Mon, 31 Mar 2025) EndedAt: 2025-03-31 15:08:46 -0400 (Mon, 31 Mar 2025) EllapsedTime: 17.4 seconds RetCode: 0 Status: OK