Package: methimpute Version: 1.28.0 Command: /home/biocbuild/bbs-3.20-bioc/R/bin/R CMD build --keep-empty-dirs --no-resave-data --md5 methimpute StartedAt: 2025-03-31 17:57:11 -0400 (Mon, 31 Mar 2025) EndedAt: 2025-03-31 17:59:10 -0400 (Mon, 31 Mar 2025) EllapsedTime: 119.1 seconds RetCode: 0 Status: OK PackageFile: methimpute_1.28.0.tar.gz PackageFileSize: 1.27 MiB