Package: methylGSA Version: 1.24.0 Command: /home/biocbuild/bbs-3.20-bioc/R/bin/R CMD build --keep-empty-dirs --no-resave-data --md5 methylGSA StartedAt: 2025-03-31 17:58:09 -0400 (Mon, 31 Mar 2025) EndedAt: 2025-03-31 17:59:49 -0400 (Mon, 31 Mar 2025) EllapsedTime: 100.1 seconds RetCode: 0 Status: OK PackageFile: methylGSA_1.24.0.tar.gz PackageFileSize: 3.145 MiB