Package: methylInheritance Version: 1.30.0 Command: /Library/Frameworks/R.framework/Resources/bin/R CMD build --keep-empty-dirs --no-resave-data methylInheritance StartedAt: 2025-04-01 02:58:59 -0400 (Tue, 01 Apr 2025) EndedAt: 2025-04-01 03:00:25 -0400 (Tue, 01 Apr 2025) EllapsedTime: 86.5 seconds RetCode: 0 Status: OK PackageFile: methylInheritance_1.30.0.tar.gz PackageFileSize: 1.708 MiB