Package: mitch Version: 1.18.4 Command: /home/biocbuild/R/R/bin/R CMD INSTALL mitch StartedAt: 2025-03-31 20:44:18 -0000 (Mon, 31 Mar 2025) EndedAt: 2025-03-31 20:44:26 -0000 (Mon, 31 Mar 2025) EllapsedTime: 7.8 seconds RetCode: 0 Status: OK