Package: moanin Version: 1.14.0 Command: /home/biocbuild/bbs-3.20-bioc/R/bin/R CMD build --keep-empty-dirs --no-resave-data --md5 moanin StartedAt: 2025-03-31 18:06:00 -0400 (Mon, 31 Mar 2025) EndedAt: 2025-03-31 18:06:56 -0400 (Mon, 31 Mar 2025) EllapsedTime: 56.1 seconds RetCode: 0 Status: OK PackageFile: moanin_1.14.0.tar.gz PackageFileSize: 524.5 KiB