Package: mosaics Version: 2.44.0 Command: /home/biocbuild/bbs-3.20-bioc/R/bin/R CMD INSTALL mosaics StartedAt: 2025-03-31 15:21:59 -0400 (Mon, 31 Mar 2025) EndedAt: 2025-03-31 15:22:47 -0400 (Mon, 31 Mar 2025) EllapsedTime: 47.4 seconds RetCode: 0 Status: OK