Package: motifStack Version: 1.50.0 Command: /Library/Frameworks/R.framework/Resources/bin/R CMD INSTALL motifStack StartedAt: 2025-03-31 16:33:57 -0400 (Mon, 31 Mar 2025) EndedAt: 2025-03-31 16:34:32 -0400 (Mon, 31 Mar 2025) EllapsedTime: 34.4 seconds RetCode: 0 Status: OK