Package: motifStack Version: 1.50.0 Command: /Library/Frameworks/R.framework/Resources/bin/R CMD INSTALL motifStack StartedAt: 2025-03-31 15:50:43 -0400 (Mon, 31 Mar 2025) EndedAt: 2025-03-31 15:52:28 -0400 (Mon, 31 Mar 2025) EllapsedTime: 104.5 seconds RetCode: 0 Status: OK