Package: motifStack Version: 1.50.0 Command: /home/biocbuild/R/R/bin/R CMD INSTALL motifStack StartedAt: 2025-03-31 20:42:17 -0000 (Mon, 31 Mar 2025) EndedAt: 2025-03-31 20:43:19 -0000 (Mon, 31 Mar 2025) EllapsedTime: 62.0 seconds RetCode: 0 Status: OK