Package: motifTestR Version: 1.2.1 Command: /home/biocbuild/bbs-3.20-bioc/R/bin/R CMD build --keep-empty-dirs --no-resave-data --md5 motifTestR StartedAt: 2025-03-31 18:09:23 -0400 (Mon, 31 Mar 2025) EndedAt: 2025-03-31 18:10:51 -0400 (Mon, 31 Mar 2025) EllapsedTime: 88.1 seconds RetCode: 0 Status: OK PackageFile: motifTestR_1.2.1.tar.gz PackageFileSize: 1.031 MiB