Package: multiClust Version: 1.36.0 Command: /home/biocbuild/bbs-3.20-bioc/R/bin/R CMD INSTALL multiClust StartedAt: 2025-03-31 15:45:56 -0400 (Mon, 31 Mar 2025) EndedAt: 2025-03-31 15:46:03 -0400 (Mon, 31 Mar 2025) EllapsedTime: 7.0 seconds RetCode: 0 Status: OK