Package: multiClust Version: 1.36.0 Command: /home/biocbuild/R/R/bin/R CMD INSTALL multiClust StartedAt: 2025-03-31 20:54:50 -0000 (Mon, 31 Mar 2025) EndedAt: 2025-03-31 20:54:59 -0000 (Mon, 31 Mar 2025) EllapsedTime: 8.7 seconds RetCode: 0 Status: OK