Package: multiHiCcompare Version: 1.24.0 Command: /home/biocbuild/R/R/bin/R CMD build --keep-empty-dirs --no-resave-data multiHiCcompare StartedAt: 2025-04-01 01:04:27 -0000 (Tue, 01 Apr 2025) EndedAt: 2025-04-01 01:05:45 -0000 (Tue, 01 Apr 2025) EllapsedTime: 78.0 seconds RetCode: 0 Status: OK PackageFile: multiHiCcompare_1.24.0.tar.gz PackageFileSize: 4.435 MiB