Package: nucleoSim Version: 1.34.0 Command: /Library/Frameworks/R.framework/Resources/bin/R CMD INSTALL nucleoSim StartedAt: 2025-03-31 15:08:37 -0400 (Mon, 31 Mar 2025) EndedAt: 2025-03-31 15:08:52 -0400 (Mon, 31 Mar 2025) EllapsedTime: 15.2 seconds RetCode: 0 Status: OK