Package: omicsViewer Version: 1.10.0 Command: /Library/Frameworks/R.framework/Resources/bin/R CMD build --keep-empty-dirs --no-resave-data omicsViewer StartedAt: 2025-03-31 20:42:40 -0400 (Mon, 31 Mar 2025) EndedAt: 2025-03-31 20:44:27 -0400 (Mon, 31 Mar 2025) EllapsedTime: 106.9 seconds RetCode: 0 Status: OK PackageFile: omicsViewer_1.10.0.tar.gz PackageFileSize: 4.325 MiB