Package: pcaMethods Version: 1.98.0 Command: /Library/Frameworks/R.framework/Resources/bin/R CMD build --keep-empty-dirs --no-resave-data pcaMethods StartedAt: 2025-04-01 04:57:37 -0400 (Tue, 01 Apr 2025) EndedAt: 2025-04-01 05:00:02 -0400 (Tue, 01 Apr 2025) EllapsedTime: 144.7 seconds RetCode: 0 Status: OK PackageFile: pcaMethods_1.98.0.tar.gz PackageFileSize: 1015 KiB