Package: pipeFrame Version: 1.22.0 Command: /home/biocbuild/R/R/bin/R CMD build --keep-empty-dirs --no-resave-data pipeFrame StartedAt: 2025-04-01 01:35:49 -0000 (Tue, 01 Apr 2025) EndedAt: 2025-04-01 01:36:52 -0000 (Tue, 01 Apr 2025) EllapsedTime: 63.0 seconds RetCode: 0 Status: OK PackageFile: pipeFrame_1.22.0.tar.gz PackageFileSize: 1.347 MiB