Package: plasmut Version: 1.4.0 Command: /home/biocbuild/R/R/bin/R CMD INSTALL plasmut StartedAt: 2025-03-31 20:15:19 -0000 (Mon, 31 Mar 2025) EndedAt: 2025-03-31 20:15:34 -0000 (Mon, 31 Mar 2025) EllapsedTime: 14.8 seconds RetCode: 0 Status: OK