Package: plotGrouper Version: 1.24.0 Command: rm -rf plotGrouper.buildbin-libdir && mkdir plotGrouper.buildbin-libdir && /Users/biocbuild/BBS/utils/build-universal.sh plotGrouper_1.24.0.tar.gz /Library/Frameworks/R.framework/Resources/bin/R plotGrouper.buildbin-libdir StartedAt: 2025-04-02 15:39:06 -0400 (Wed, 02 Apr 2025) EndedAt: 2025-04-02 15:39:15 -0400 (Wed, 02 Apr 2025) EllapsedTime: 9.2 seconds RetCode: 0 Status: OK PackageFile: plotGrouper_1.24.0.tgz PackageFileSize: 370.2 KiB