Package: preciseTAD Version: 1.16.0 Command: /Library/Frameworks/R.framework/Resources/bin/R CMD INSTALL preciseTAD StartedAt: 2025-03-31 17:36:25 -0400 (Mon, 31 Mar 2025) EndedAt: 2025-03-31 17:37:18 -0400 (Mon, 31 Mar 2025) EllapsedTime: 53.1 seconds RetCode: 0 Status: OK