Package: proBAMr Version: 1.40.0 Command: /Library/Frameworks/R.framework/Resources/bin/R CMD build --keep-empty-dirs --no-resave-data proBAMr StartedAt: 2025-04-01 05:22:49 -0400 (Tue, 01 Apr 2025) EndedAt: 2025-04-01 05:24:25 -0400 (Tue, 01 Apr 2025) EllapsedTime: 95.8 seconds RetCode: 0 Status: OK PackageFile: proBAMr_1.40.0.tar.gz PackageFileSize: 814 KiB