Package: progeny Version: 1.28.0 Command: /home/biocbuild/bbs-3.20-bioc/R/bin/R CMD INSTALL progeny StartedAt: 2025-03-31 15:25:03 -0400 (Mon, 31 Mar 2025) EndedAt: 2025-03-31 15:25:12 -0400 (Mon, 31 Mar 2025) EllapsedTime: 8.4 seconds RetCode: 0 Status: OK