Package: qmtools Version: 1.10.0 Command: /home/biocbuild/R/R/bin/R CMD INSTALL qmtools StartedAt: 2025-03-31 21:02:00 -0000 (Mon, 31 Mar 2025) EndedAt: 2025-03-31 21:02:30 -0000 (Mon, 31 Mar 2025) EllapsedTime: 30.1 seconds RetCode: 0 Status: OK