Package: qusage Version: 2.40.0 Command: /home/biocbuild/R/R/bin/R CMD INSTALL qusage StartedAt: 2025-03-31 20:17:27 -0000 (Mon, 31 Mar 2025) EndedAt: 2025-03-31 20:17:45 -0000 (Mon, 31 Mar 2025) EllapsedTime: 17.9 seconds RetCode: 0 Status: OK