Package: rain Version: 1.40.0 Command: /Library/Frameworks/R.framework/Resources/bin/R CMD INSTALL rain StartedAt: 2025-03-31 17:25:21 -0400 (Mon, 31 Mar 2025) EndedAt: 2025-03-31 17:25:30 -0400 (Mon, 31 Mar 2025) EllapsedTime: 8.5 seconds RetCode: 0 Status: OK