Package: randRotation Version: 1.18.0 Command: /home/biocbuild/bbs-3.20-bioc/R/bin/R CMD build --keep-empty-dirs --no-resave-data --md5 randRotation StartedAt: 2025-03-31 18:40:55 -0400 (Mon, 31 Mar 2025) EndedAt: 2025-03-31 18:42:40 -0400 (Mon, 31 Mar 2025) EllapsedTime: 105.1 seconds RetCode: 0 Status: OK PackageFile: randRotation_1.18.0.tar.gz PackageFileSize: 976 KiB