Package: rqt Version: 1.32.0 Command: /home/biocbuild/bbs-3.20-bioc/R/bin/R CMD build --keep-empty-dirs --no-resave-data --md5 rqt StartedAt: 2025-03-31 18:52:47 -0400 (Mon, 31 Mar 2025) EndedAt: 2025-03-31 18:53:29 -0400 (Mon, 31 Mar 2025) EllapsedTime: 42.1 seconds RetCode: 0 Status: OK PackageFile: rqt_1.32.0.tar.gz PackageFileSize: 543.2 KiB