Package: rtracklayer Version: 1.66.0 Command: /Library/Frameworks/R.framework/Resources/bin/R CMD INSTALL rtracklayer StartedAt: 2025-03-31 15:28:09 -0400 (Mon, 31 Mar 2025) EndedAt: 2025-03-31 15:29:57 -0400 (Mon, 31 Mar 2025) EllapsedTime: 108.1 seconds RetCode: 0 Status: OK