Package: scBubbletree Version: 1.8.0 Command: rm -rf scBubbletree.buildbin-libdir && mkdir scBubbletree.buildbin-libdir && F:\biocbuild\bbs-3.20-bioc\R\bin\R.exe CMD INSTALL --build --library=scBubbletree.buildbin-libdir scBubbletree_1.8.0.tar.gz StartedAt: 2025-04-01 09:09:00 -0400 (Tue, 01 Apr 2025) EndedAt: 2025-04-01 09:10:10 -0400 (Tue, 01 Apr 2025) EllapsedTime: 69.8 seconds RetCode: 0 Status: OK PackageFile: scBubbletree_1.8.0.zip PackageFileSize: 2.07 MiB