Package: scDDboost Version: 1.8.1 Command: /Library/Frameworks/R.framework/Resources/bin/R CMD INSTALL scDDboost StartedAt: 2025-03-31 17:03:00 -0400 (Mon, 31 Mar 2025) EndedAt: 2025-03-31 17:04:02 -0400 (Mon, 31 Mar 2025) EllapsedTime: 62.2 seconds RetCode: 0 Status: OK