Package: scDataviz Version: 1.16.0 Command: chmod a+r scDataviz -R && F:\biocbuild\bbs-3.20-bioc\R\bin\R.exe CMD build --keep-empty-dirs --no-resave-data scDataviz StartedAt: 2025-03-31 21:41:18 -0400 (Mon, 31 Mar 2025) EndedAt: 2025-03-31 21:47:03 -0400 (Mon, 31 Mar 2025) EllapsedTime: 344.7 seconds RetCode: 0 Status: OK PackageFile: scDataviz_1.16.0.tar.gz PackageFileSize: 5.825 MiB