Package: scDotPlot Version: 1.0.0 Command: /Library/Frameworks/R.framework/Resources/bin/R CMD INSTALL scDotPlot StartedAt: 2025-03-31 18:14:04 -0400 (Mon, 31 Mar 2025) EndedAt: 2025-03-31 18:14:48 -0400 (Mon, 31 Mar 2025) EllapsedTime: 44.1 seconds RetCode: 0 Status: OK