Package: scGPS Version: 1.20.0 Command: /home/biocbuild/R/R/bin/R CMD INSTALL scGPS StartedAt: 2025-03-31 20:59:51 -0000 (Mon, 31 Mar 2025) EndedAt: 2025-03-31 21:01:08 -0000 (Mon, 31 Mar 2025) EllapsedTime: 76.8 seconds RetCode: 0 Status: OK