Package: scReClassify Version: 1.12.0 Command: /home/biocbuild/R/R/bin/R CMD INSTALL scReClassify StartedAt: 2025-03-31 20:22:36 -0000 (Mon, 31 Mar 2025) EndedAt: 2025-03-31 20:23:03 -0000 (Mon, 31 Mar 2025) EllapsedTime: 26.2 seconds RetCode: 0 Status: OK