Package: scRepertoire Version: 2.2.1 Command: /home/biocbuild/bbs-3.20-bioc/R/bin/R CMD build --keep-empty-dirs --no-resave-data --md5 scRepertoire StartedAt: 2025-03-31 19:02:17 -0400 (Mon, 31 Mar 2025) EndedAt: 2025-03-31 19:05:55 -0400 (Mon, 31 Mar 2025) EllapsedTime: 218.2 seconds RetCode: 0 Status: OK PackageFile: scRepertoire_2.2.1.tar.gz PackageFileSize: 21.27 MiB