Package: scTensor Version: 2.16.0 Command: /home/biocbuild/R/R/bin/R CMD INSTALL scTensor StartedAt: 2025-03-31 21:01:59 -0000 (Mon, 31 Mar 2025) EndedAt: 2025-03-31 21:02:01 -0000 (Mon, 31 Mar 2025) EllapsedTime: 1.2 seconds RetCode: 1 Status: ERROR