Package: scatterHatch Version: 1.12.0 Command: /home/biocbuild/R/R/bin/R CMD INSTALL scatterHatch StartedAt: 2025-03-31 20:23:37 -0000 (Mon, 31 Mar 2025) EndedAt: 2025-03-31 20:23:46 -0000 (Mon, 31 Mar 2025) EllapsedTime: 8.2 seconds RetCode: 0 Status: OK