Package: sccomp Version: 1.10.0 Command: /home/biocbuild/R/R/bin/R CMD INSTALL sccomp StartedAt: 2025-03-31 20:38:46 -0000 (Mon, 31 Mar 2025) EndedAt: 2025-03-31 20:39:26 -0000 (Mon, 31 Mar 2025) EllapsedTime: 39.2 seconds RetCode: 0 Status: OK